BEGIN:VCALENDAR
VERSION:2.0
PRODID:http://kuratie-nurn.de
BEGIN:VEVENT
UID:045b168f-36a8-11f1-a8bf-0242ac11002b-1777104000000-de
DTSTAMP:20260412T194428Z
DTSTART:20260425T080000Z
DTEND:20260425T090000Z
SUMMARY;LANGUAGE=de:Feierliche Erstkommunion
DESCRIPTION;LANGUAGE=de:anschließend Taufe von Femke Fischer
END:VEVENT
END:VCALENDAR
