BEGIN:VCALENDAR
VERSION:2.0
PRODID:http://kuratie-nurn.de
BEGIN:VEVENT
UID:04ce3db7-364e-11f1-a8bf-0242ac11002b-1778401800000-de
DTSTAMP:20260412T090014Z
DTSTART:20260510T083000Z
DTEND:20260510T093000Z
SUMMARY;LANGUAGE=de:Hl. Messe zur Erstkommunion Pettstadt
END:VEVENT
END:VCALENDAR
