BEGIN:VCALENDAR
VERSION:2.0
PRODID:http://kuratie-nurn.de
BEGIN:VEVENT
UID:0512a863-3b05-11f1-a8bf-0242ac11002b-1778932800000-de
DTSTAMP:20260418T090017Z
DTSTART:20260516T120000Z
DTEND:20260516T130000Z
SUMMARY;LANGUAGE=de:Segnung Denkmal für ländliche Entwicklung
DESCRIPTION;LANGUAGE=de:Treffpunkt am Bärenbrunnen zw. Frankenberg und Mosenberg
END:VEVENT
END:VCALENDAR
