BEGIN:VCALENDAR
VERSION:2.0
PRODID:http://kuratie-nurn.de
BEGIN:VEVENT
UID:09edc8be-36a8-11f1-a8bf-0242ac11002b-1778396400000-de
DTSTAMP:20260412T194437Z
DTSTART:20260510T070000Z
DTEND:20260510T080000Z
SUMMARY;LANGUAGE=de:Eucharistiefeier (für die Pfarrgemeinde), St. Martins-Kirche
END:VEVENT
END:VCALENDAR
