BEGIN:VCALENDAR
VERSION:2.0
PRODID:http://kuratie-nurn.de
BEGIN:VEVENT
UID:0a5cb743-36a8-11f1-a8bf-0242ac11002b-1777192200000-de
DTSTAMP:20260412T194438Z
DTSTART:20260426T083000Z
DTEND:20260426T093000Z
SUMMARY;LANGUAGE=de:Eucharistiefeier (Live-Stream)
END:VEVENT
END:VCALENDAR
