BEGIN:VCALENDAR
VERSION:2.0
PRODID:http://kuratie-nurn.de
BEGIN:VEVENT
UID:26648679-3bce-11f1-a8bf-0242ac11002b-1778997600000-de
DTSTAMP:20260419T090001Z
DTSTART:20260517T060000Z
DTEND:20260517T073000Z
SUMMARY;LANGUAGE=de:Eucharistiefeier, anschl. Flurumgang
END:VEVENT
END:VCALENDAR
