BEGIN:VCALENDAR
VERSION:2.0
PRODID:http://kuratie-nurn.de
BEGIN:VEVENT
UID:2efbb826-3717-11f1-a8bf-0242ac11002b-1778515200000-de
DTSTAMP:20260413T090013Z
DTSTART:20260511T160000Z
DTEND:20260511T180000Z
SUMMARY;LANGUAGE=de:Bittprozession zum Vornlocker Kreuz mit Hl. Messe
END:VEVENT
END:VCALENDAR
