BEGIN:VCALENDAR
VERSION:2.0
PRODID:http://kuratie-nurn.de
BEGIN:VEVENT
UID:3021da81-3260-11f1-a8bf-0242ac11002b-1777995000000-de
DTSTAMP:20260407T090013Z
DTSTART:20260505T153000Z
DTEND:20260505T160000Z
SUMMARY;LANGUAGE=de:Aussetzung des Allerheiligsten
END:VEVENT
END:VCALENDAR
