BEGIN:VCALENDAR
VERSION:2.0
PRODID:http://kuratie-nurn.de
BEGIN:VEVENT
UID:334b89f9-3717-11f1-a8bf-0242ac11002b-1778513400000-de
DTSTAMP:20260413T090020Z
DTSTART:20260511T153000Z
DTEND:20260511T163000Z
SUMMARY;LANGUAGE=de:Bittprozession nach Oberhaid
END:VEVENT
END:VCALENDAR
