BEGIN:VCALENDAR
VERSION:2.0
PRODID:http://kuratie-nurn.de
BEGIN:VEVENT
UID:53ead2bc-3329-11f1-a8bf-0242ac11002b-1778077800000-de
DTSTAMP:20260408T090001Z
DTSTART:20260506T143000Z
DTEND:20260506T153000Z
SUMMARY;LANGUAGE=de:Maiandacht für Selbsthilfegruppe Schlaganfallgruppe
END:VEVENT
END:VCALENDAR
