BEGIN:VCALENDAR
VERSION:2.0
PRODID:http://kuratie-nurn.de
BEGIN:VEVENT
UID:61f42c42-37e0-11f1-a8bf-0242ac11002b-1778601600000-de
DTSTAMP:20260414T090028Z
DTSTART:20260512T160000Z
DTEND:20260512T170000Z
SUMMARY;LANGUAGE=de:Bittgang zum Heimkehrerkreuz
END:VEVENT
END:VCALENDAR
