BEGIN:VCALENDAR
VERSION:2.0
PRODID:http://kuratie-nurn.de
BEGIN:VEVENT
UID:81f6156a-2f3b-11f1-a8bf-0242ac11002b-1777622400000-de
DTSTAMP:20260403T090005Z
DTSTART:20260501T080000Z
DTEND:20260501T100000Z
SUMMARY;LANGUAGE=de:Stille Anbetung bis 12:00 Uhr
END:VEVENT
END:VCALENDAR
