BEGIN:VCALENDAR
VERSION:2.0
PRODID:http://kuratie-nurn.de
BEGIN:VEVENT
UID:8254fe56-2f3b-11f1-a8bf-0242ac11002b-1777636800000-de
DTSTAMP:20260403T090006Z
DTSTART:20260501T120000Z
DTEND:20260501T130000Z
SUMMARY;LANGUAGE=de:Andacht mit Fahrzeugsegnung am Festzelt, anl. 150 Jahre Feuerwehr in Wildensorg
END:VEVENT
END:VCALENDAR
