BEGIN:VCALENDAR
VERSION:2.0
PRODID:http://kuratie-nurn.de
BEGIN:VEVENT
UID:85ad951d-38a9-11f1-a8bf-0242ac11002b-1778689200000-de
DTSTAMP:20260415T090016Z
DTSTART:20260513T162000Z
DTEND:20260513T163000Z
SUMMARY;LANGUAGE=de:Auszug zum Bittgang nach Uetzing
DESCRIPTION;LANGUAGE=de:(Bushaltestelle)
END:VEVENT
END:VCALENDAR
