BEGIN:VCALENDAR
VERSION:2.0
PRODID:http://kuratie-nurn.de
BEGIN:VEVENT
UID:85b9a312-38a9-11f1-a8bf-0242ac11002b-1778693400000-de
DTSTAMP:20260415T090016Z
DTSTART:20260513T173000Z
DTEND:20260513T200000Z
SUMMARY;LANGUAGE=de:Taizè-Gebet im ev. Gemeindehaus
END:VEVENT
END:VCALENDAR
