BEGIN:VCALENDAR
VERSION:2.0
PRODID:http://kuratie-nurn.de
BEGIN:VEVENT
UID:876a2a31-33f2-11f1-a8bf-0242ac11002b-1777708800000-de
DTSTAMP:20260409T090017Z
DTSTART:20260502T080000Z
DTEND:20260502T090000Z
SUMMARY;LANGUAGE=de:Probe der Erstkommunionkinder
END:VEVENT
END:VCALENDAR
