BEGIN:VCALENDAR
VERSION:2.0
PRODID:http://kuratie-nurn.de
BEGIN:VEVENT
UID:8a722bea-2f3b-11f1-a8bf-0242ac11002b-1777640400000-de
DTSTAMP:20260403T090019Z
DTSTART:20260501T130000Z
DTEND:20260501T140000Z
SUMMARY;LANGUAGE=de:Rosenkranz zum barmherzigen Jesus
END:VEVENT
END:VCALENDAR
