BEGIN:VCALENDAR
VERSION:2.0
PRODID:http://kuratie-nurn.de
BEGIN:VEVENT
UID:8a9dcfd4-2f3b-11f1-a8bf-0242ac11002b-1777624200000-de
DTSTAMP:20260403T090020Z
DTSTART:20260501T083000Z
DTEND:20260501T093000Z
SUMMARY;LANGUAGE=de:Hl. Messe zur Goldenen Hochzeit von Martina u. Josef Weber
DESCRIPTION;LANGUAGE=de:(Pfr. A. Eckler)
END:VEVENT
END:VCALENDAR
