BEGIN:VCALENDAR
VERSION:2.0
PRODID:http://kuratie-nurn.de
BEGIN:VEVENT
UID:8de77c19-2f3b-11f1-a8bf-0242ac11002b-1777622400000-de
DTSTAMP:20260403T090025Z
DTSTART:20260501T080000Z
DTEND:20260501T090000Z
SUMMARY;LANGUAGE=de:Marienfestgottesdienst an der Grotte im Bärental
DESCRIPTION;LANGUAGE=de:bei starkem Regen findet der Gottesdienst in der Kirche in Neudorf statt
END:VEVENT
END:VCALENDAR
