BEGIN:VCALENDAR
VERSION:2.0
PRODID:http://kuratie-nurn.de
BEGIN:VEVENT
UID:8e97fe15-38a9-11f1-a8bf-0242ac11002b-1777653000000-de
DTSTAMP:20260415T090031Z
DTSTART:20260501T163000Z
DTEND:20260501T173000Z
SUMMARY;LANGUAGE=de:Hl. Messe u. Eröffnung der Maiandacht
END:VEVENT
END:VCALENDAR
