BEGIN:VCALENDAR
VERSION:2.0
PRODID:http://kuratie-nurn.de
BEGIN:VEVENT
UID:8eb6f7cd-38a9-11f1-a8bf-0242ac11002b-1777561200000-de
DTSTAMP:20260415T090032Z
DTSTART:20260430T150000Z
DTEND:20260430T160000Z
SUMMARY;LANGUAGE=de:Eröffnung der Maiandacht vor der "Ritterstube"
END:VEVENT
END:VCALENDAR
