BEGIN:VCALENDAR
VERSION:2.0
PRODID:http://kuratie-nurn.de
BEGIN:VEVENT
UID:8f49f272-2f3b-11f1-a8bf-0242ac11002b-1777651200000-de
DTSTAMP:20260403T090027Z
DTSTART:20260501T160000Z
DTEND:20260501T170000Z
SUMMARY;LANGUAGE=de:Erste feierliche Maiandacht
END:VEVENT
END:VCALENDAR
