BEGIN:VCALENDAR
VERSION:2.0
PRODID:http://kuratie-nurn.de
BEGIN:VEVENT
UID:a787dd6e-3972-11f1-a8bf-0242ac11002b-1778781600000-de
DTSTAMP:20260416T090002Z
DTSTART:20260514T180000Z
DTEND:20260514T190000Z
SUMMARY;LANGUAGE=de:„Nachteulentreff“ / Friedensgebet
END:VEVENT
END:VCALENDAR
