BEGIN:VCALENDAR
VERSION:2.0
PRODID:http://kuratie-nurn.de
BEGIN:VEVENT
UID:a91c02f3-34bb-11f1-a8bf-0242ac11002b-1778259600000-de
DTSTAMP:20260410T090002Z
DTSTART:20260508T170000Z
DTEND:20260508T190000Z
SUMMARY;LANGUAGE=de:Geistreichgottesdienst der Firmlinge
DESCRIPTION;LANGUAGE=de:Thema "Geist und Ungeist"
END:VEVENT
END:VCALENDAR
