BEGIN:VCALENDAR
VERSION:2.0
PRODID:http://kuratie-nurn.de
BEGIN:VEVENT
UID:ab52996c-36ba-11f1-a8bf-0242ac11002b-1777275000000-de
DTSTAMP:20260412T215759Z
DTSTART:20260427T073000Z
DTEND:20260427T083000Z
SUMMARY;LANGUAGE=de:Dankandacht für die Erstkommunionkinder aus Steinbach am Wald, Buchbach und Tettau in der St. Laurentiuskirche Buchbach
END:VEVENT
END:VCALENDAR
