BEGIN:VCALENDAR
VERSION:2.0
PRODID:http://kuratie-nurn.de
BEGIN:VEVENT
UID:af397012-36ba-11f1-a8bf-0242ac11002b-1777795200000-de
DTSTAMP:20260412T215805Z
DTSTART:20260503T080000Z
DTEND:20260503T090000Z
SUMMARY;LANGUAGE=de:Festgottesdienst mit Feier der Erst-und Jubelkommunion
DESCRIPTION;LANGUAGE=de:+ Jubilare und Angehörige der Kommunionkinder
END:VEVENT
END:VCALENDAR
