BEGIN:VCALENDAR
VERSION:2.0
PRODID:http://kuratie-nurn.de
BEGIN:VEVENT
UID:afcc33a1-34bb-11f1-a8bf-0242ac11002b-1778230800000-de
DTSTAMP:20260410T090013Z
DTSTART:20260508T090000Z
DTEND:20260508T100000Z
SUMMARY;LANGUAGE=de:Maiandacht Kindergarten St. Otto Reundorf
END:VEVENT
END:VCALENDAR
