BEGIN:VCALENDAR
VERSION:2.0
PRODID:http://kuratie-nurn.de
BEGIN:VEVENT
UID:afd9c836-34bb-11f1-a8bf-0242ac11002b-1778259600000-de
DTSTAMP:20260410T090013Z
DTSTART:20260508T170000Z
DTEND:20260508T180000Z
SUMMARY;LANGUAGE=de:Maiandacht Kapelle Wingersdorf
END:VEVENT
END:VCALENDAR
