BEGIN:VCALENDAR
VERSION:2.0
PRODID:http://kuratie-nurn.de
BEGIN:VEVENT
UID:b2703160-36ba-11f1-a8bf-0242ac11002b-1777215600000-de
DTSTAMP:20260412T215811Z
DTSTART:20260426T150000Z
DTEND:20260426T160000Z
SUMMARY;LANGUAGE=de:Festgottesdienst mit Markusprozession
END:VEVENT
END:VCALENDAR
