BEGIN:VCALENDAR
VERSION:2.0
PRODID:http://kuratie-nurn.de
BEGIN:VEVENT
UID:b6951281-3e29-11f1-a8bf-0242ac11002b-1779298200000-de
DTSTAMP:20260422T090030Z
DTSTART:20260520T173000Z
DTEND:20260520T183000Z
SUMMARY;LANGUAGE=de:Konstituierende Sitzung des Seelsorgebereichsrat
END:VEVENT
END:VCALENDAR
