BEGIN:VCALENDAR
VERSION:2.0
PRODID:http://kuratie-nurn.de
BEGIN:VEVENT
UID:b9278e21-36ba-11f1-a8bf-0242ac11002b-1777739400000-de
DTSTAMP:20260412T215822Z
DTSTART:20260502T163000Z
DTEND:20260502T173000Z
SUMMARY;LANGUAGE=de:Bittamt für die Wallfahrer aus Teuschnitz
DESCRIPTION;LANGUAGE=de:* für alle Wallfahrerinnen und Wallfahrer zu Ehren der 14 Nothelfer
END:VEVENT
END:VCALENDAR
