BEGIN:VCALENDAR
VERSION:2.0
PRODID:http://kuratie-nurn.de
BEGIN:VEVENT
UID:bb6fb05f-3972-11f1-a8bf-0242ac11002b-1778774400000-de
DTSTAMP:20260416T090035Z
DTSTART:20260514T160000Z
DTEND:20260514T170000Z
SUMMARY;LANGUAGE=de:Hl. Messe mit Maiandacht u. sakr. Segen
END:VEVENT
END:VCALENDAR
