BEGIN:VCALENDAR
VERSION:2.0
PRODID:http://kuratie-nurn.de
BEGIN:VEVENT
UID:bc8d029a-2b4d-11f1-a15b-0242ac11002b-1777179600000-de
DTSTAMP:20260329T090030Z
DTSTART:20260426T050000Z
DTEND:20260426T100000Z
SUMMARY;LANGUAGE=de:32. Radwallfahrt nach Vierzehnheiligen
END:VEVENT
END:VCALENDAR
