BEGIN:VCALENDAR
VERSION:2.0
PRODID:http://kuratie-nurn.de
BEGIN:VEVENT
UID:beda4e5a-2b4d-11f1-a15b-0242ac11002b-1777192200000-de
DTSTAMP:20260329T090033Z
DTSTART:20260426T083000Z
DTEND:20260426T093000Z
SUMMARY;LANGUAGE=de:Wort-Gottes-Feier mit Gebetsanliegen
END:VEVENT
END:VCALENDAR
