BEGIN:VCALENDAR
VERSION:2.0
PRODID:http://kuratie-nurn.de
BEGIN:VEVENT
UID:c45222fa-36ba-11f1-a8bf-0242ac11002b-1778430600000-de
DTSTAMP:20260412T215841Z
DTSTART:20260510T163000Z
DTEND:20260510T173000Z
SUMMARY;LANGUAGE=de:Bittandacht am Muttergotteshäuschen in der Alten Marter
END:VEVENT
END:VCALENDAR
