BEGIN:VCALENDAR
VERSION:2.0
PRODID:http://kuratie-nurn.de
BEGIN:VEVENT
UID:cfc99f5f-36ba-11f1-a8bf-0242ac11002b-1777795200000-de
DTSTAMP:20260412T215900Z
DTSTART:20260503T080000Z
DTEND:20260503T090000Z
SUMMARY;LANGUAGE=de:Wort-Gottes-Feier mit Gebetsgedenken an:
DESCRIPTION;LANGUAGE=de:*lebende und verstorbene Mitglieder des Gesangvereins Harmonie Förtschendorf
END:VEVENT
END:VCALENDAR
