BEGIN:VCALENDAR
VERSION:2.0
PRODID:http://kuratie-nurn.de
BEGIN:VEVENT
UID:dd8d837d-3584-11f1-a8bf-0242ac11002b-1778331600000-de
DTSTAMP:20260411T090019Z
DTSTART:20260509T130000Z
DTEND:20260509T140000Z
SUMMARY;LANGUAGE=de:ökum. Gottesdienst mit Fahrzeugsegnung
END:VEVENT
END:VCALENDAR
