BEGIN:VCALENDAR
VERSION:2.0
PRODID:http://kuratie-nurn.de
BEGIN:VEVENT
UID:ee250f53-2a8c-11f1-a15b-0242ac11002b-1777132800000-de
DTSTAMP:20260328T100020Z
DTSTART:20260425T160000Z
DTEND:20260425T170000Z
SUMMARY;LANGUAGE=de:Heilige Messe - Jugendgottesdienst
DESCRIPTION;LANGUAGE=de:"We are the world!" mit dem Diözesanjugendpfarrer
END:VEVENT
END:VCALENDAR
