BEGIN:VCALENDAR
VERSION:2.0
PRODID:http://kuratie-nurn.de
BEGIN:VEVENT
UID:fd0bb2ea-364d-11f1-a8bf-0242ac11002b-1778400000000-de
DTSTAMP:20260412T090001Z
DTSTART:20260510T080000Z
DTEND:20260510T090000Z
SUMMARY;LANGUAGE=de:WGF - Kinder- u. Familiengottesdienst
END:VEVENT
END:VCALENDAR
